BEGIN:VCALENDAR
VERSION:2.0
PRODID:-//Wickliffe Italian-American Club - ECPv6.15.20//NONSGML v1.0//EN
CALSCALE:GREGORIAN
METHOD:PUBLISH
X-WR-CALNAME:Wickliffe Italian-American Club
X-ORIGINAL-URL:https://wickliffeianda.com
X-WR-CALDESC:Events for Wickliffe Italian-American Club
REFRESH-INTERVAL;VALUE=DURATION:PT1H
X-Robots-Tag:noindex
X-PUBLISHED-TTL:PT1H
BEGIN:VTIMEZONE
TZID:UTC
BEGIN:STANDARD
TZOFFSETFROM:+0000
TZOFFSETTO:+0000
TZNAME:UTC
DTSTART:20160101T000000
END:STANDARD
END:VTIMEZONE
BEGIN:VEVENT
DTSTART;TZID=UTC:20170404T190000
DTEND;TZID=UTC:20170404T203000
DTSTAMP:20260423T221604
CREATED:20170315T200323Z
LAST-MODIFIED:20170315T200323Z
UID:108-1491332400-1491337800@wickliffeianda.com
SUMMARY:Member Meeting
DESCRIPTION:
URL:https://wickliffeianda.com/event/member-meeting/
CATEGORIES:Monthly Meeting
END:VEVENT
BEGIN:VEVENT
DTSTART;TZID=UTC:20170328T190000
DTEND;TZID=UTC:20170328T203000
DTSTAMP:20260423T221604
CREATED:20170315T200355Z
LAST-MODIFIED:20170315T200355Z
UID:110-1490727600-1490733000@wickliffeianda.com
SUMMARY:Board Meeting
DESCRIPTION:
URL:https://wickliffeianda.com/event/board-meeting/
CATEGORIES:Monthly Meeting
END:VEVENT
END:VCALENDAR