BEGIN:VCALENDAR
VERSION:2.0
PRODID:-//Wickliffe Italian-American Club - ECPv6.15.20//NONSGML v1.0//EN
CALSCALE:GREGORIAN
METHOD:PUBLISH
X-ORIGINAL-URL:https://wickliffeianda.com
X-WR-CALDESC:Events for Wickliffe Italian-American Club
REFRESH-INTERVAL;VALUE=DURATION:PT1H
X-Robots-Tag:noindex
X-PUBLISHED-TTL:PT1H
BEGIN:VTIMEZONE
TZID:America/Detroit
BEGIN:DAYLIGHT
TZOFFSETFROM:-0500
TZOFFSETTO:-0400
TZNAME:EDT
DTSTART:20160313T070000
END:DAYLIGHT
BEGIN:STANDARD
TZOFFSETFROM:-0400
TZOFFSETTO:-0500
TZNAME:EST
DTSTART:20161106T060000
END:STANDARD
BEGIN:DAYLIGHT
TZOFFSETFROM:-0500
TZOFFSETTO:-0400
TZNAME:EDT
DTSTART:20170312T070000
END:DAYLIGHT
BEGIN:STANDARD
TZOFFSETFROM:-0400
TZOFFSETTO:-0500
TZNAME:EST
DTSTART:20171105T060000
END:STANDARD
BEGIN:DAYLIGHT
TZOFFSETFROM:-0500
TZOFFSETTO:-0400
TZNAME:EDT
DTSTART:20180311T070000
END:DAYLIGHT
BEGIN:STANDARD
TZOFFSETFROM:-0400
TZOFFSETTO:-0500
TZNAME:EST
DTSTART:20181104T060000
END:STANDARD
BEGIN:DAYLIGHT
TZOFFSETFROM:-0500
TZOFFSETTO:-0400
TZNAME:EDT
DTSTART:20190310T070000
END:DAYLIGHT
BEGIN:STANDARD
TZOFFSETFROM:-0400
TZOFFSETTO:-0500
TZNAME:EST
DTSTART:20191103T060000
END:STANDARD
END:VTIMEZONE
BEGIN:VTIMEZONE
TZID:UTC
BEGIN:STANDARD
TZOFFSETFROM:+0000
TZOFFSETTO:+0000
TZNAME:UTC
DTSTART:20160101T000000
END:STANDARD
END:VTIMEZONE
BEGIN:VEVENT
DTSTART;TZID=America/Detroit:20180428T190000
DTEND;TZID=America/Detroit:20180428T220000
DTSTAMP:20260423T233057
CREATED:20180222T154408Z
LAST-MODIFIED:20180305T165936Z
UID:476-1524942000-1524952800@wickliffeianda.com
SUMMARY:3rd Annual Wine Tasting
DESCRIPTION:The Wickliffe Italian & American Club’s 3rd annual Scholarship Wine Tasting event is being held Saturday\, April 28 from 7 – 10 p.m. \nTickets are $15\, including samplings from all wines and appetizers. Full dinner and bar options are available for purchase. \nFeaturing around 25 homemade wines from local vendors and club members\, this event has resulted in a packed house for the past two years and is expected to be the same this year\, so get your tickets early! \nMore information can be found here.
URL:https://wickliffeianda.com/event/3rd-annual-wine-tasting/
CATEGORIES:Public Event
END:VEVENT
BEGIN:VEVENT
DTSTART;TZID=America/Detroit:20180224T190000
DTEND;TZID=America/Detroit:20180224T230000
DTSTAMP:20260423T233058
CREATED:20180222T154056Z
LAST-MODIFIED:20180222T154056Z
UID:474-1519498800-1519513200@wickliffeianda.com
SUMMARY:American Legion Fund Raiser
DESCRIPTION:Club member Gary Willis is helping to put on a fundraiser at the Wickliffe American Legion. It will be a 50’s-60’s-70’s dance party. \nCost is $10 per person; cash bar. Food is provided. \nContact Gary at 440.944.1634 for details.
URL:https://wickliffeianda.com/event/american-legion-fund-raiser/
CATEGORIES:Public Event
END:VEVENT
BEGIN:VEVENT
DTSTART;TZID=America/Detroit:20180223T190000
DTEND;TZID=America/Detroit:20180223T230000
DTSTAMP:20260423T233058
CREATED:20180222T153817Z
LAST-MODIFIED:20180222T153817Z
UID:471-1519412400-1519426800@wickliffeianda.com
SUMMARY:Night Out at Club Molisani
DESCRIPTION:As a part of our outreach efforts\, we had members from Club Molisani at our club last summer and they are no reciprocating. You can check out their beautiful facility Friday\, Feb. 23 starting at 7 p.m.
URL:https://wickliffeianda.com/event/night-out-at-club-molisani/
CATEGORIES:Member-Only Events
END:VEVENT
BEGIN:VEVENT
DTSTART;TZID=America/Detroit:20171209T170000
DTEND;TZID=America/Detroit:20171209T200000
DTSTAMP:20260423T233058
CREATED:20171030T170451Z
LAST-MODIFIED:20171030T170451Z
UID:403-1512838800-1512849600@wickliffeianda.com
SUMMARY:Children's Christmas Party
DESCRIPTION:Annual club children’s Christmas party.
URL:https://wickliffeianda.com/event/childrens-christmas-party/
CATEGORIES:Member-Only Events
END:VEVENT
BEGIN:VEVENT
DTSTART;TZID=America/Detroit:20171205T190000
DTEND;TZID=America/Detroit:20171205T200000
DTSTAMP:20260423T233058
CREATED:20171030T170344Z
LAST-MODIFIED:20171030T170344Z
UID:401-1512500400-1512504000@wickliffeianda.com
SUMMARY:Member Meeting - December 2017
DESCRIPTION:Member Meeting – December 2017.
URL:https://wickliffeianda.com/event/member-meeting-december-2017/
CATEGORIES:Monthly Meeting
END:VEVENT
BEGIN:VEVENT
DTSTART;TZID=America/Detroit:20171202T190000
DTEND;TZID=America/Detroit:20171202T220000
DTSTAMP:20260423T233058
CREATED:20171030T170257Z
LAST-MODIFIED:20171116T155854Z
UID:399-1512241200-1512252000@wickliffeianda.com
SUMMARY:"Breaking Balls" DVD Release Party
DESCRIPTION:Join us for the DVD release party of “Breaking Balls” and get your signed copy! We’ll have food\, drinks and music\, so join the fun! \nMore details here.
URL:https://wickliffeianda.com/event/breaking-balls-dvd-release-party/
CATEGORIES:Member-Only Events
END:VEVENT
BEGIN:VEVENT
DTSTART;TZID=America/Detroit:20171127T190000
DTEND;TZID=America/Detroit:20171127T200000
DTSTAMP:20260423T233058
CREATED:20171030T170211Z
LAST-MODIFIED:20171030T170211Z
UID:397-1511809200-1511812800@wickliffeianda.com
SUMMARY:Board Meeting
DESCRIPTION:Club board meeting.
URL:https://wickliffeianda.com/event/board-meeting-5/
CATEGORIES:Member-Only Events
END:VEVENT
BEGIN:VEVENT
DTSTART;VALUE=DATE:20171117
DTEND;VALUE=DATE:20171120
DTSTAMP:20260423T233058
CREATED:20170927T160924Z
LAST-MODIFIED:20170927T160941Z
UID:367-1510876800-1511135999@wickliffeianda.com
SUMMARY:50th Anniversary Ciociaro Club Boccee Tournament
DESCRIPTION:Three player tournament\, $150 per team. See the flyer below for more information: \nTournament Info
URL:https://wickliffeianda.com/event/50th-anniversary-ciociaro-club-boccee-tournament/
CATEGORIES:Bocce Tournament
END:VEVENT
BEGIN:VEVENT
DTSTART;TZID=America/Detroit:20171107T190000
DTEND;TZID=America/Detroit:20171107T200000
DTSTAMP:20260423T233058
CREATED:20171030T170131Z
LAST-MODIFIED:20171030T170131Z
UID:395-1510081200-1510084800@wickliffeianda.com
SUMMARY:Monthly Meeting - November 2017
DESCRIPTION:Monthly Meeting – November 2017.
URL:https://wickliffeianda.com/event/monthly-meeting-november-2017/
CATEGORIES:Monthly Meeting
END:VEVENT
BEGIN:VEVENT
DTSTART;TZID=America/Detroit:20171101T190000
DTEND;TZID=America/Detroit:20171101T200000
DTSTAMP:20260423T233058
CREATED:20171030T170046Z
LAST-MODIFIED:20171030T170046Z
UID:393-1509562800-1509566400@wickliffeianda.com
SUMMARY:Board Meeting
DESCRIPTION:Club board meeting.
URL:https://wickliffeianda.com/event/board-meeting-4/
CATEGORIES:Member-Only Events
END:VEVENT
BEGIN:VEVENT
DTSTART;VALUE=DATE:20171021
DTEND;VALUE=DATE:20171022
DTSTAMP:20260423T233058
CREATED:20170927T155559Z
LAST-MODIFIED:20170927T155559Z
UID:359-1508544000-1508630399@wickliffeianda.com
SUMMARY:Bocce Banquet for Thursday League
DESCRIPTION:Bocce Banquet/Round Robin Tournament for the Thursday night league.  Brian Vitantonio will have details at the meeting.
URL:https://wickliffeianda.com/event/bocce-banquet-for-thursday-league/
CATEGORIES:Bocce Tournament,Member-Only Events
END:VEVENT
BEGIN:VEVENT
DTSTART;VALUE=DATE:20171014
DTEND;VALUE=DATE:20171015
DTSTAMP:20260423T233058
CREATED:20170927T155511Z
LAST-MODIFIED:20170927T155511Z
UID:357-1507939200-1508025599@wickliffeianda.com
SUMMARY:Annual Bocce Match with Solon I&A
DESCRIPTION:Annual bocce match with the Solon Italian-American Club.  Gino will have details on this at the meeting.  It’s always a good time\, and the Solon guys usually bring the food!
URL:https://wickliffeianda.com/event/annual-bocce-match-with-solon-ia/
CATEGORIES:Bocce Tournament,Member-Only Events
END:VEVENT
BEGIN:VEVENT
DTSTART;VALUE=DATE:20171009
DTEND;VALUE=DATE:20171010
DTSTAMP:20260423T233058
CREATED:20170927T155417Z
LAST-MODIFIED:20170927T155417Z
UID:355-1507507200-1507593599@wickliffeianda.com
SUMMARY:Columbus Day Parade
DESCRIPTION: Columbus Day Parade in Little Italy.  We march in the parade along side vehicles provided to us by Pat O’Brien Chevrolet\, throwing out candy to the crowd that is lined up along the parade route.\n\nAfterwards\, many spill into the local bars and restaurants.  If you’ve never had the chance to do this\, it is a lot of fun.  Looking for a party\, just hang\nwith Marco.  A party seems to find him wherever he goes!
URL:https://wickliffeianda.com/event/columbus-day-parade/
CATEGORIES:Public Event
END:VEVENT
BEGIN:VEVENT
DTSTART;TZID=America/Detroit:20171007T160000
DTEND;TZID=America/Detroit:20171007T180000
DTSTAMP:20260423T233058
CREATED:20170927T155051Z
LAST-MODIFIED:20170927T155051Z
UID:351-1507392000-1507399200@wickliffeianda.com
SUMMARY:Breaking Balls Documentary at Chagrin Documentary Film Festival
DESCRIPTION:Breaking Balls documentary will be screened at the Chagrin Documentary Film Festival.  Check the link here for more info on the time and how to purchase tickets:\n            http://schedule.chagrinfilmfest.org/
URL:https://wickliffeianda.com/event/breaking-balls-documentary-at-chagrin-documentary-film-festival/
CATEGORIES:Public Event
END:VEVENT
BEGIN:VEVENT
DTSTART;VALUE=DATE:20171007
DTEND;VALUE=DATE:20171008
DTSTAMP:20260423T233058
CREATED:20170927T155248Z
LAST-MODIFIED:20170927T155248Z
UID:353-1507334400-1507420799@wickliffeianda.com
SUMMARY:Clam Bake
DESCRIPTION:Clam Bake put on by our Entertainment Committee.  See Mario Dinero for tickets.  $25/Members and $30/Non-Members.  Deadline to purchase tickets it the October 3rd meeting.\n\nMario Dinero:  440-289-0399 or m_dinero7@yahoo.com
URL:https://wickliffeianda.com/event/clam-bake/
CATEGORIES:Public Event
END:VEVENT
BEGIN:VEVENT
DTSTART;TZID=America/Detroit:20171003T190000
DTEND;TZID=America/Detroit:20171003T200000
DTSTAMP:20260423T233058
CREATED:20170927T154927Z
LAST-MODIFIED:20170927T154927Z
UID:349-1507057200-1507060800@wickliffeianda.com
SUMMARY:Member Meeting
DESCRIPTION:
URL:https://wickliffeianda.com/event/member-meeting-3/
CATEGORIES:Member-Only Events,Monthly Meeting
END:VEVENT
BEGIN:VEVENT
DTSTART;TZID=America/Detroit:20171002T163000
DTEND;TZID=America/Detroit:20171002T210000
DTSTAMP:20260423T233058
CREATED:20170927T160134Z
LAST-MODIFIED:20170927T160134Z
UID:361-1506961800-1506978000@wickliffeianda.com
SUMMARY:Club Member Gino Latessa Honored with Award
DESCRIPTION:As part of National Italian-American Heritage Month\, our own Gino Latessa has been selected to receive a prestigious award for all of the contributions that he has made to our community\, joining an elite group of people being honored this year.  The ceremony takes place in the rotunda of Cleveland City Hall starting at 5:30 p.m. on Monday\, October 2nd.  This is a FREE event that is open to the public and the awards ceremony is followed by a FREE dinner (underwritten by Umberto Fedeli)\, with wine\, water\, and coffee included.  We would like to have some members from the club there to support Gino\, so if you are able to make this and would like to go\, please contact Larry Koval ASAP so we can reserve seating.  I believe Gino has a table for 10 on hold\, and then after that it would be first come\, first serve.  Depending on how many people would like to go\, we can try and arrange a car pool to save on parking expense.  We would probably want to depart by 4:30-4:45 p.m.
URL:https://wickliffeianda.com/event/club-member-gino-latessa-honored-with-award/
CATEGORIES:Member-Only Events
END:VEVENT
BEGIN:VEVENT
DTSTART;TZID=America/Detroit:20170827T080000
DTEND;TZID=America/Detroit:20170827T190000
DTSTAMP:20260423T233058
CREATED:20170809T170732Z
LAST-MODIFIED:20170809T170732Z
UID:316-1503820800-1503860400@wickliffeianda.com
SUMMARY:Cleveland Challenge Cup of Bocce Day 3
DESCRIPTION:SUNDAY\, AUGUST 27TH:\n\n8:00 a.m. – Tournament play resumes\nNoon – 1:00 p.m. – Live Broadcast with Carmelina Antonelli’s “Touch of Italy” show; WELW 1330 AM\n1:00 – 1:50 p.m. – Magic Show with Rick Smith Jr.\n2:00 – 3:00 p.m. – Jungle Terry Exotic Animal Show\n3:00 – 5:00 p.m. – DJ Dave\n4:00 p.m. – Women’s Division Championship (approximate time)\n6:00 p.m. – Men’s Division Championship (approximate time)
URL:https://wickliffeianda.com/event/cleveland-challenge-cup-of-bocce-day-3/
CATEGORIES:Bocce Tournament,Public Event
END:VEVENT
BEGIN:VEVENT
DTSTART;TZID=America/Detroit:20170826T080000
DTEND;TZID=America/Detroit:20170827T000000
DTSTAMP:20260423T233058
CREATED:20170809T170646Z
LAST-MODIFIED:20170809T170646Z
UID:314-1503734400-1503792000@wickliffeianda.com
SUMMARY:Cleveland Challenge Cup of Bocce Day 2
DESCRIPTION:SATURDAY\, AUGUST 26TH:\n\n8:00 a.m. – Tournament play resumes\nNoon to 3:00 p.m. – Italian Cultural Activities in the Pavillion\n\nEmcee Angie Spitalieri\, Publisher of LaGazzetta Italian Newspaper\nJim Frank Trio\nCooking Demonstration by Chef Dan of the Euclid Culinary School\nAppearance by Miss Italia\nPhoto display from the Western Reserve Historical Society on the History of Italians in Cleveland (In the Club Room)\n\n\n4:00 – 7:00 p.m. – Live Entertainment by Bobby Leach (Sinatra music)\n6:00 – 8:00 p.m. – Live Broadcast with Tony Marotta of Radio Italia/Cleveland; WRUW 91.1 FM\n8:00 – Midnight – Live music by SUMRADA
URL:https://wickliffeianda.com/event/cleveland-challenge-cup-of-bocce-day-2/
CATEGORIES:Bocce Tournament,Public Event
END:VEVENT
BEGIN:VEVENT
DTSTART;TZID=America/Detroit:20170825T170000
DTEND;TZID=America/Detroit:20170825T230000
DTSTAMP:20260423T233058
CREATED:20170809T170601Z
LAST-MODIFIED:20170809T170601Z
UID:312-1503680400-1503702000@wickliffeianda.com
SUMMARY:Cleveland Challenge Cup of Bocce Day 1
DESCRIPTION:FRIDAY\, AUGUST 25TH:\n\n5:30 p.m. – Opening Ceremonies\, National Anthems sung by Gio Castiglione\n6:00 p.m. – Tournament play begins\n7:00 – 11:00 p.m. – Live music by Cavalieri Reale
URL:https://wickliffeianda.com/event/cleveland-challenge-cup-of-bocce-day-1/
CATEGORIES:Bocce Tournament,Public Event
END:VEVENT
BEGIN:VEVENT
DTSTART;TZID=America/Detroit:20170812T120000
DTEND;TZID=America/Detroit:20170815T230000
DTSTAMP:20260423T233058
CREATED:20170809T170106Z
LAST-MODIFIED:20170809T170106Z
UID:306-1502539200-1502838000@wickliffeianda.com
SUMMARY:Feast of the Assumption - Little Italy
DESCRIPTION:Saturday\, August 12 – Noon to Midnight\nSunday\, August 13 – Noon to 11:00 p.m.\nMonday\, August 14 – 6:00 p.m. to 11:00 p.m.\nTuesday\, August 15 – Noon to 11:00 p.m. \nOne of the city’s biggest and most vibrant festivals is taking place this weekend! The Feast of the Assumption is celebrating its 119th year in Cleveland’s Little Italy neighborhood\, and you’re invited. During the four days of festivities\, indulge your taste buds with delicious Italian foods and desserts\, listen to live music\, visit with old friends or make new ones over a bottle of Peroni or glass of Chianti\, and take your children on fun carnival rides in the churchyard. Click here for a full schedule of events. \nGetting to the Feast\nAvoid the hassle of finding a parking space\, and take RTA’s Red Line to the Feast! Simply disembark at the Little Italy – University Circle station\, and you’ll be steps away from the fun. RTA’s HealthLine is another easy\, convenient way to get to-and-from the event. \nFor a full list of nearby parking information\, check out the parking map found at the bottom of this page.
URL:https://wickliffeianda.com/event/feast-of-the-assumption-little-italy/
CATEGORIES:Public Event
END:VEVENT
BEGIN:VEVENT
DTSTART;TZID=America/Detroit:20170715T130000
DTEND;TZID=America/Detroit:20170715T230000
DTSTAMP:20260423T233058
CREATED:20170709T150527Z
LAST-MODIFIED:20170709T150527Z
UID:270-1500123600-1500159600@wickliffeianda.com
SUMMARY:Wickliffe Bicentennial Celebration
DESCRIPTION:The city of Wickliffe is celebrating their bicentennial on July 15\, 2017. View the schedule of events at the link below. \nWickliffe Bicentennial Celebration Schedule
URL:https://wickliffeianda.com/event/wickliffe-bicentennial-celebration/
CATEGORIES:Public Event
END:VEVENT
BEGIN:VEVENT
DTSTART;TZID=America/Detroit:20170623T180000
DTEND;TZID=America/Detroit:20170625T180000
DTSTAMP:20260423T233058
CREATED:20170607T123446Z
LAST-MODIFIED:20170607T123446Z
UID:173-1498240800-1498413600@wickliffeianda.com
SUMMARY:Northeast Ohio Bocce Classic - Mayfield Hts.
DESCRIPTION:This is an off-site bocce tournament hosted by Club Molosani Charities. Click the link below for details: \nNORTHEAST OHIO BOCCE CLASSIC INFORMATION
URL:https://wickliffeianda.com/event/northeast-ohio-bocce-classic-mayfield-hts/
CATEGORIES:Bocce Tournament
END:VEVENT
BEGIN:VEVENT
DTSTART;TZID=America/Detroit:20170617T100000
DTEND;TZID=America/Detroit:20170617T170000
DTSTAMP:20260423T233058
CREATED:20170607T125406Z
LAST-MODIFIED:20170607T125406Z
UID:181-1497693600-1497718800@wickliffeianda.com
SUMMARY:Draw Pairs Bocce Tournament
DESCRIPTION:Click here for more info.
URL:https://wickliffeianda.com/event/draw-pairs-bocce-tournament/
CATEGORIES:Bocce Tournament
END:VEVENT
BEGIN:VEVENT
DTSTART;TZID=UTC:20170530T190000
DTEND;TZID=UTC:20170530T203000
DTSTAMP:20260423T233058
CREATED:20170315T202901Z
LAST-MODIFIED:20170315T202901Z
UID:130-1496170800-1496176200@wickliffeianda.com
SUMMARY:Board Meeting
DESCRIPTION:
URL:https://wickliffeianda.com/event/board-meeting-3/
CATEGORIES:Monthly Meeting
END:VEVENT
BEGIN:VEVENT
DTSTART;TZID=UTC:20170527T080000
DTEND;TZID=UTC:20170527T170000
DTSTAMP:20260423T233058
CREATED:20170315T202832Z
LAST-MODIFIED:20170518T153508Z
UID:128-1495872000-1495904400@wickliffeianda.com
SUMMARY:Summer Kickoff Classic Bocce Tournament
DESCRIPTION:The Wickliffe Italian-American Club is once again hosting the 4 th Annual Summer Kickoff Classic\, benefiting the Wickliffe I&A Scholarship Fund. We plan to have 32 teams and six prize payouts\, with a Grand Prize of $1\,200. This tournament is the first outdoor tournament of the Bocce season at the Club and promises to be competitive. We will have a cash bar\, food service – including coffee and donuts in the morning and whatever the Scholarship committee puts together for lunch (Pasta-Subs- Pizza\, etc). \nContact Chuck Britton (440-289- 0612) or Paul DiCicco (440-552- 1865) for details or visit out Facebook Page (Wickliffe Italian-American Club) to obtain a registration form and flyer.
URL:https://wickliffeianda.com/event/summer-kickoff-classic-bocce-tournament/
CATEGORIES:Bocce Tournament
END:VEVENT
BEGIN:VEVENT
DTSTART;TZID=UTC:20170526T190000
DTEND;TZID=UTC:20170526T220000
DTSTAMP:20260423T233058
CREATED:20170315T202742Z
LAST-MODIFIED:20170315T202742Z
UID:126-1495825200-1495836000@wickliffeianda.com
SUMMARY:Club Night
DESCRIPTION:
URL:https://wickliffeianda.com/event/club-night-5/
CATEGORIES:Club Nights
END:VEVENT
BEGIN:VEVENT
DTSTART;TZID=America/Detroit:20170521T090000
DTEND;TZID=America/Detroit:20170521T110000
DTSTAMP:20260423T233058
CREATED:20170518T153331Z
LAST-MODIFIED:20170518T153331Z
UID:155-1495357200-1495364400@wickliffeianda.com
SUMMARY:Spring Work Party
DESCRIPTION:We will be spreading mulch in all the flower beds and planting flowers as well.  Please bring rakes\, pitch forks\, shovels\, wheel barrows\, gloves\, etc.  Check in at 9:00 and ask Mark Iafelice what he would like you to do. \nNEW MEMBERS – THIS IS MANDATORY! \nThis will go fast as long as we have enough help. See you there!
URL:https://wickliffeianda.com/event/spring-work-party/
CATEGORIES:Member-Only Events
END:VEVENT
BEGIN:VEVENT
DTSTART;TZID=UTC:20170512T190000
DTEND;TZID=UTC:20170512T220000
DTSTAMP:20260423T233058
CREATED:20170315T202707Z
LAST-MODIFIED:20170315T202707Z
UID:124-1494615600-1494626400@wickliffeianda.com
SUMMARY:Club Night
DESCRIPTION:
URL:https://wickliffeianda.com/event/club-night-4/
CATEGORIES:Club Nights
END:VEVENT
BEGIN:VEVENT
DTSTART;TZID=UTC:20170506T080000
DTEND;TZID=UTC:20170506T170000
DTSTAMP:20260423T233058
CREATED:20170315T201414Z
LAST-MODIFIED:20170315T201414Z
UID:121-1494057600-1494090000@wickliffeianda.com
SUMMARY:Special Olympics
DESCRIPTION:More information coming soon!
URL:https://wickliffeianda.com/event/special-olympics/
CATEGORIES:Public Event
END:VEVENT
END:VCALENDAR