BEGIN:VCALENDAR
VERSION:2.0
PRODID:-//Wickliffe Italian-American Club - ECPv6.15.20//NONSGML v1.0//EN
CALSCALE:GREGORIAN
METHOD:PUBLISH
X-WR-CALNAME:Wickliffe Italian-American Club
X-ORIGINAL-URL:https://wickliffeianda.com
X-WR-CALDESC:Events for Wickliffe Italian-American Club
REFRESH-INTERVAL;VALUE=DURATION:PT1H
X-Robots-Tag:noindex
X-PUBLISHED-TTL:PT1H
BEGIN:VTIMEZONE
TZID:UTC
BEGIN:STANDARD
TZOFFSETFROM:+0000
TZOFFSETTO:+0000
TZNAME:UTC
DTSTART:20160101T000000
END:STANDARD
END:VTIMEZONE
BEGIN:VTIMEZONE
TZID:America/New_York
BEGIN:DAYLIGHT
TZOFFSETFROM:-0500
TZOFFSETTO:-0400
TZNAME:EDT
DTSTART:20160313T070000
END:DAYLIGHT
BEGIN:STANDARD
TZOFFSETFROM:-0400
TZOFFSETTO:-0500
TZNAME:EST
DTSTART:20161106T060000
END:STANDARD
BEGIN:DAYLIGHT
TZOFFSETFROM:-0500
TZOFFSETTO:-0400
TZNAME:EDT
DTSTART:20170312T070000
END:DAYLIGHT
BEGIN:STANDARD
TZOFFSETFROM:-0400
TZOFFSETTO:-0500
TZNAME:EST
DTSTART:20171105T060000
END:STANDARD
BEGIN:DAYLIGHT
TZOFFSETFROM:-0500
TZOFFSETTO:-0400
TZNAME:EDT
DTSTART:20180311T070000
END:DAYLIGHT
BEGIN:STANDARD
TZOFFSETFROM:-0400
TZOFFSETTO:-0500
TZNAME:EST
DTSTART:20181104T060000
END:STANDARD
END:VTIMEZONE
BEGIN:VEVENT
DTSTART;TZID=UTC:20170502T190000
DTEND;TZID=UTC:20170502T203000
DTSTAMP:20260424T034554
CREATED:20170315T200940Z
LAST-MODIFIED:20170315T200940Z
UID:119-1493751600-1493757000@wickliffeianda.com
SUMMARY:Member Meeting
DESCRIPTION:
URL:https://wickliffeianda.com/event/member-meeting-2/
CATEGORIES:Monthly Meeting
END:VEVENT
BEGIN:VEVENT
DTSTART;TZID=UTC:20170429T190000
DTEND;TZID=UTC:20170429T220000
DTSTAMP:20260424T034554
CREATED:20170315T195607Z
LAST-MODIFIED:20170315T195607Z
UID:104-1493492400-1493503200@wickliffeianda.com
SUMMARY:Homemade Wine Tasting
DESCRIPTION:Competition Details: \nYou will be asked to bring one gallon of wine for each category you wish to enter.  You can enter one\, two or all three categories.  We will provide you all the cups you need to hand out samples to attendees.  The winner(s) will be selected by the people’s choice – everyone that attends will be able to vote for one person in each category. \nTo enter the competition or answer any questions please call Bill Hawkins at 216–390–1110. \nFor Those Attending: \nTickets are $15 per person and will include samples from each competitor and appetizers. \nBeer\, liquor\, and hardy food options will be available for purchase \nWinners in the following categories:\nRed Wine\nWhite Wine\nBlush Wine
URL:https://wickliffeianda.com/event/homemade-wine-tasting/
END:VEVENT
BEGIN:VEVENT
DTSTART;TZID=UTC:20170428T190000
DTEND;TZID=UTC:20170428T220000
DTSTAMP:20260424T034554
CREATED:20170315T200848Z
LAST-MODIFIED:20170315T200848Z
UID:116-1493406000-1493416800@wickliffeianda.com
SUMMARY:Club Night
DESCRIPTION:
URL:https://wickliffeianda.com/event/club-night-3/
CATEGORIES:Club Nights
END:VEVENT
BEGIN:VEVENT
DTSTART;TZID=UTC:20170426T190000
DTEND;TZID=UTC:20170426T203000
DTSTAMP:20260424T034554
CREATED:20170315T200814Z
LAST-MODIFIED:20170315T200814Z
UID:114-1493233200-1493238600@wickliffeianda.com
SUMMARY:Board Meeting
DESCRIPTION:
URL:https://wickliffeianda.com/event/board-meeting-2/
CATEGORIES:Monthly Meeting
END:VEVENT
BEGIN:VEVENT
DTSTART;TZID=UTC:20170414T190000
DTEND;TZID=UTC:20170414T220000
DTSTAMP:20260424T034554
CREATED:20170315T200737Z
LAST-MODIFIED:20170315T200737Z
UID:112-1492196400-1492207200@wickliffeianda.com
SUMMARY:Club Night
DESCRIPTION:
URL:https://wickliffeianda.com/event/club-night-2/
CATEGORIES:Club Nights
END:VEVENT
BEGIN:VEVENT
DTSTART;TZID=UTC:20170404T190000
DTEND;TZID=UTC:20170404T203000
DTSTAMP:20260424T034554
CREATED:20170315T200323Z
LAST-MODIFIED:20170315T200323Z
UID:108-1491332400-1491337800@wickliffeianda.com
SUMMARY:Member Meeting
DESCRIPTION:
URL:https://wickliffeianda.com/event/member-meeting/
CATEGORIES:Monthly Meeting
END:VEVENT
BEGIN:VEVENT
DTSTART;TZID=UTC:20170331T190000
DTEND;TZID=UTC:20170331T220000
DTSTAMP:20260424T034554
CREATED:20170315T200244Z
LAST-MODIFIED:20170315T200244Z
UID:106-1490986800-1490997600@wickliffeianda.com
SUMMARY:Club Night
DESCRIPTION:
URL:https://wickliffeianda.com/event/club-night/
CATEGORIES:Club Nights
END:VEVENT
BEGIN:VEVENT
DTSTART;TZID=UTC:20170328T190000
DTEND;TZID=UTC:20170328T203000
DTSTAMP:20260424T034554
CREATED:20170315T200355Z
LAST-MODIFIED:20170315T200355Z
UID:110-1490727600-1490733000@wickliffeianda.com
SUMMARY:Board Meeting
DESCRIPTION:
URL:https://wickliffeianda.com/event/board-meeting/
CATEGORIES:Monthly Meeting
END:VEVENT
BEGIN:VEVENT
DTSTART;TZID=America/New_York:20170316T080000
DTEND;TZID=America/New_York:20170316T170000
DTSTAMP:20260424T034554
CREATED:20170309T215635Z
LAST-MODIFIED:20170309T215635Z
UID:100-1489651200-1489683600@wickliffeianda.com
SUMMARY:
DESCRIPTION:test event
URL:https://wickliffeianda.com/event/100/
LOCATION:wickliffe i and a\, United States
END:VEVENT
END:VCALENDAR