BEGIN:VCALENDAR
VERSION:2.0
PRODID:-//Wickliffe Italian-American Club - ECPv6.15.20//NONSGML v1.0//EN
CALSCALE:GREGORIAN
METHOD:PUBLISH
X-WR-CALNAME:Wickliffe Italian-American Club
X-ORIGINAL-URL:https://wickliffeianda.com
X-WR-CALDESC:Events for Wickliffe Italian-American Club
REFRESH-INTERVAL;VALUE=DURATION:PT1H
X-Robots-Tag:noindex
X-PUBLISHED-TTL:PT1H
BEGIN:VTIMEZONE
TZID:America/Detroit
BEGIN:DAYLIGHT
TZOFFSETFROM:-0500
TZOFFSETTO:-0400
TZNAME:EDT
DTSTART:20180311T070000
END:DAYLIGHT
BEGIN:STANDARD
TZOFFSETFROM:-0400
TZOFFSETTO:-0500
TZNAME:EST
DTSTART:20181104T060000
END:STANDARD
BEGIN:DAYLIGHT
TZOFFSETFROM:-0500
TZOFFSETTO:-0400
TZNAME:EDT
DTSTART:20190310T070000
END:DAYLIGHT
BEGIN:STANDARD
TZOFFSETFROM:-0400
TZOFFSETTO:-0500
TZNAME:EST
DTSTART:20191103T060000
END:STANDARD
BEGIN:DAYLIGHT
TZOFFSETFROM:-0500
TZOFFSETTO:-0400
TZNAME:EDT
DTSTART:20200308T070000
END:DAYLIGHT
BEGIN:STANDARD
TZOFFSETFROM:-0400
TZOFFSETTO:-0500
TZNAME:EST
DTSTART:20201101T060000
END:STANDARD
BEGIN:DAYLIGHT
TZOFFSETFROM:-0500
TZOFFSETTO:-0400
TZNAME:EDT
DTSTART:20210314T070000
END:DAYLIGHT
BEGIN:STANDARD
TZOFFSETFROM:-0400
TZOFFSETTO:-0500
TZNAME:EST
DTSTART:20211107T060000
END:STANDARD
END:VTIMEZONE
BEGIN:VEVENT
DTSTART;TZID=America/Detroit:20201103T190000
DTEND;TZID=America/Detroit:20201103T190000
DTSTAMP:20260423T154201
CREATED:20200123T194111Z
LAST-MODIFIED:20200123T194111Z
UID:2232-1604430000-1604430000@wickliffeianda.com
SUMMARY:Montly Member Meeting - Nov.
DESCRIPTION:
URL:https://wickliffeianda.com/event/montly-member-meeting-nov/
CATEGORIES:Monthly Meeting
END:VEVENT
BEGIN:VEVENT
DTSTART;TZID=America/Detroit:20201012T080000
DTEND;TZID=America/Detroit:20201012T170000
DTSTAMP:20260423T154201
CREATED:20180928T171607Z
LAST-MODIFIED:20200123T193214Z
UID:1395-1602489600-1602522000@wickliffeianda.com
SUMMARY:Columbus Day Parade
DESCRIPTION:
URL:https://wickliffeianda.com/event/columbus-day-parade-2/
END:VEVENT
BEGIN:VEVENT
DTSTART;TZID=America/Detroit:20201010T080000
DTEND;TZID=America/Detroit:20201010T140000
DTSTAMP:20260423T154201
CREATED:20200123T193117Z
LAST-MODIFIED:20200123T193117Z
UID:2215-1602316800-1602338400@wickliffeianda.com
SUMMARY:Solon Invitational Bocce Tournament
DESCRIPTION:The Wickliffe and Solon I&A clubs pair off for a friendly tournament.
URL:https://wickliffeianda.com/event/solon-invitational-bocce-tournament-2/
CATEGORIES:Member-Only Events
END:VEVENT
BEGIN:VEVENT
DTSTART;TZID=America/Detroit:20201006T190000
DTEND;TZID=America/Detroit:20201006T190000
DTSTAMP:20260423T154201
CREATED:20200123T194111Z
LAST-MODIFIED:20200123T194111Z
UID:2231-1602010800-1602010800@wickliffeianda.com
SUMMARY:Montly Member Meeting - Oct.
DESCRIPTION:
URL:https://wickliffeianda.com/event/montly-member-meeting-oct/
CATEGORIES:Monthly Meeting
END:VEVENT
BEGIN:VEVENT
DTSTART;TZID=America/Detroit:20200926T080000
DTEND;TZID=America/Detroit:20200926T170000
DTSTAMP:20260423T154201
CREATED:20200123T193002Z
LAST-MODIFIED:20200123T193002Z
UID:2213-1601107200-1601139600@wickliffeianda.com
SUMMARY:Thursday Night Bocce Banquet
DESCRIPTION:Because we’re all winners in some way… (yeah\, okay).
URL:https://wickliffeianda.com/event/thursday-night-bocce-banquet/
CATEGORIES:Member-Only Events
END:VEVENT
BEGIN:VEVENT
DTSTART;TZID=America/Detroit:20200912T060000
DTEND;TZID=America/Detroit:20200912T230000
DTSTAMP:20260423T154201
CREATED:20200123T192908Z
LAST-MODIFIED:20200123T192908Z
UID:2211-1599890400-1599951600@wickliffeianda.com
SUMMARY:Glow in the Dark Bocce
DESCRIPTION:Glow Bocce is back! Join us for a night of bocce\, food\, music and more. \nDoors open at 6 p.m. (food served) with play beginning at 7 p.m.
URL:https://wickliffeianda.com/event/glow-in-the-dark-bocce-2/
CATEGORIES:Public Event
END:VEVENT
BEGIN:VEVENT
DTSTART;TZID=America/Detroit:20200901T190000
DTEND;TZID=America/Detroit:20200901T190000
DTSTAMP:20260423T154201
CREATED:20200123T194110Z
LAST-MODIFIED:20200123T194110Z
UID:2230-1598986800-1598986800@wickliffeianda.com
SUMMARY:Montly Member Meeting - Sept.
DESCRIPTION:
URL:https://wickliffeianda.com/event/montly-member-meeting-sept/
CATEGORIES:Monthly Meeting
END:VEVENT
BEGIN:VEVENT
DTSTART;TZID=America/Detroit:20200828T080000
DTEND;TZID=America/Detroit:20200830T230000
DTSTAMP:20260423T154201
CREATED:20200123T192814Z
LAST-MODIFIED:20200123T192814Z
UID:2209-1598601600-1598828400@wickliffeianda.com
SUMMARY:Cleveland Challenge Cup of Bocce
DESCRIPTION:The biggest bocce tournament in the mid-west is back! \nThree days of bocce\, music\, food and more. \nCheck back this summer for a full schedule of events.
URL:https://wickliffeianda.com/event/cleveland-challenge-cup-of-bocce/
CATEGORIES:Public Event
END:VEVENT
BEGIN:VEVENT
DTSTART;TZID=America/Detroit:20200804T190000
DTEND;TZID=America/Detroit:20200804T190000
DTSTAMP:20260423T154201
CREATED:20200123T194109Z
LAST-MODIFIED:20200123T194109Z
UID:2229-1596567600-1596567600@wickliffeianda.com
SUMMARY:Montly Member Meeting - Aug.
DESCRIPTION:
URL:https://wickliffeianda.com/event/montly-member-meeting-aug/
CATEGORIES:Monthly Meeting
END:VEVENT
BEGIN:VEVENT
DTSTART;TZID=America/Detroit:20200717T170000
DTEND;TZID=America/Detroit:20200717T230000
DTSTAMP:20260423T154201
CREATED:20200123T192607Z
LAST-MODIFIED:20200123T192607Z
UID:2205-1595005200-1595026800@wickliffeianda.com
SUMMARY:Beats n' Eats
DESCRIPTION:Enjoy a night of live music and food from local food trucks at the Wickliffe I&A grounds. All proceeds benefit the Wickliffe I&A Scholarship Fund. \nThis event is open to the public. More details to come!
URL:https://wickliffeianda.com/event/beats-n-eats-2/
CATEGORIES:Public Event
END:VEVENT
BEGIN:VEVENT
DTSTART;TZID=America/Detroit:20200707T190000
DTEND;TZID=America/Detroit:20200707T190000
DTSTAMP:20260423T154201
CREATED:20200123T194109Z
LAST-MODIFIED:20200123T194109Z
UID:2228-1594148400-1594148400@wickliffeianda.com
SUMMARY:Montly Member Meeting - July
DESCRIPTION:
URL:https://wickliffeianda.com/event/montly-member-meeting-july/
CATEGORIES:Monthly Meeting
END:VEVENT
BEGIN:VEVENT
DTSTART;TZID=America/Detroit:20200602T190000
DTEND;TZID=America/Detroit:20200602T190000
DTSTAMP:20260423T154201
CREATED:20200123T194105Z
LAST-MODIFIED:20200123T194105Z
UID:2227-1591124400-1591124400@wickliffeianda.com
SUMMARY:Montly Member Meeting - June
DESCRIPTION:
URL:https://wickliffeianda.com/event/montly-member-meeting-june/
CATEGORIES:Monthly Meeting
END:VEVENT
BEGIN:VEVENT
DTSTART;TZID=America/Detroit:20200530T080000
DTEND;TZID=America/Detroit:20200530T170000
DTSTAMP:20260423T154201
CREATED:20200123T192443Z
LAST-MODIFIED:20200123T192443Z
UID:2203-1590825600-1590858000@wickliffeianda.com
SUMMARY:Two-Man Bocce Tournament
DESCRIPTION:Details forthcoming.
URL:https://wickliffeianda.com/event/two-man-bocce-tournament/
END:VEVENT
BEGIN:VEVENT
DTSTART;TZID=America/Detroit:20200507T190000
DTEND;TZID=America/Detroit:20200507T210000
DTSTAMP:20260423T154201
CREATED:20200123T192303Z
LAST-MODIFIED:20200403T183515Z
UID:2201-1588878000-1588885200@wickliffeianda.com
SUMMARY:Thursday Night Bocce Begins (SUSPENDED)
DESCRIPTION:Let the season begin! \nCheck the bocce page for weekly schedules and standings.
URL:https://wickliffeianda.com/event/thursday-night-bocce-begins/
CATEGORIES:Member-Only Events
END:VEVENT
BEGIN:VEVENT
DTSTART;TZID=America/Detroit:20200505T190000
DTEND;TZID=America/Detroit:20200505T190000
DTSTAMP:20260423T154201
CREATED:20200123T194105Z
LAST-MODIFIED:20200123T194105Z
UID:2226-1588705200-1588705200@wickliffeianda.com
SUMMARY:Montly Member Meeting - May
DESCRIPTION:
URL:https://wickliffeianda.com/event/montly-member-meeting-may/
CATEGORIES:Monthly Meeting
END:VEVENT
BEGIN:VEVENT
DTSTART;TZID=America/Detroit:20200502T080000
DTEND;TZID=America/Detroit:20200502T110000
DTSTAMP:20260423T154201
CREATED:20200123T192142Z
LAST-MODIFIED:20200123T192142Z
UID:2199-1588406400-1588417200@wickliffeianda.com
SUMMARY:Special Olympics
DESCRIPTION:Held at the Wickliffe I&A grounds. \nVolunteers needed!
URL:https://wickliffeianda.com/event/special-olympics-3/
CATEGORIES:Public Event
END:VEVENT
BEGIN:VEVENT
DTSTART;TZID=America/Detroit:20200416T180000
DTEND;TZID=America/Detroit:20200416T210000
DTSTAMP:20260423T154201
CREATED:20200123T192018Z
LAST-MODIFIED:20200403T183533Z
UID:2196-1587060000-1587070800@wickliffeianda.com
SUMMARY:Ladies Annual Card Party (CANCELLED)
DESCRIPTION:
URL:https://wickliffeianda.com/event/ladies-annual-card-party/
CATEGORIES:Member-Only Events
END:VEVENT
BEGIN:VEVENT
DTSTART;TZID=America/Detroit:20200407T190000
DTEND;TZID=America/Detroit:20200407T190000
DTSTAMP:20260423T154201
CREATED:20200123T194104Z
LAST-MODIFIED:20200403T183555Z
UID:2225-1586286000-1586286000@wickliffeianda.com
SUMMARY:Montly Member Meeting - April (CANCELLED - Drive-by dinner pickup\, 6-7 p.m.)
DESCRIPTION:
URL:https://wickliffeianda.com/event/montly-member-meeting-april/
CATEGORIES:Monthly Meeting
END:VEVENT
BEGIN:VEVENT
DTSTART;TZID=America/Detroit:20200321T190000
DTEND;TZID=America/Detroit:20200321T220000
DTSTAMP:20260423T154201
CREATED:20200114T130635Z
LAST-MODIFIED:20200123T191947Z
UID:2186-1584817200-1584828000@wickliffeianda.com
SUMMARY:Homemade Wine and Homemade Sausage Tasting Competition
DESCRIPTION:All proceeds from this event benefit the Wickliffe I&A Scholarship Fund. \nThis event is held at the Large Hall (Trevi) \nTickets: $20 – includes samplings of all wines\, sausages and\, and complimentary meats and cheeses. \nTickets can be purchased at the door or by calling Bill Hawkins (216.390.1110). \nFeaturing Sinatra impersonator\, Bobby Leach! \nCash bar and additional food available for purchase. Winners will be judged by people’s choice for best in Red\, White and Blush Wine; and best Homemade Italian Sausage. \nDownload the flyer here for more information and to enter as a competitor.
URL:https://wickliffeianda.com/event/homemade-wine-and-homemade-sausage-tasting-competition/
END:VEVENT
BEGIN:VEVENT
DTSTART;TZID=America/Detroit:20200303T190000
DTEND;TZID=America/Detroit:20200303T190000
DTSTAMP:20260423T154201
CREATED:20200123T194103Z
LAST-MODIFIED:20200123T194103Z
UID:2224-1583262000-1583262000@wickliffeianda.com
SUMMARY:Montly Member Meeting - March
DESCRIPTION:
URL:https://wickliffeianda.com/event/montly-member-meeting-march/
CATEGORIES:Monthly Meeting
END:VEVENT
BEGIN:VEVENT
DTSTART;TZID=America/Detroit:20200216T080000
DTEND;TZID=America/Detroit:20200216T113000
DTSTAMP:20260423T154201
CREATED:20200123T191809Z
LAST-MODIFIED:20200123T191851Z
UID:2192-1581840000-1581852600@wickliffeianda.com
SUMMARY:Valentine's Day Brunch
DESCRIPTION:$10 Member & Immediate Family $12 Non Members\n• Kids under 6 years of age – FREE\n• Omelettes\, Eggs\,Bacon\,Sausage\, Ham\, Pancakes\, Waffles & More \nTICKETS MUST BE PURCHASED BY FEBRUARY 12\, 2020 \nFor Tickets Contact Vince Laurie 216-973-0277 \, vplaurie@yahoo.com\nOr see Vince at the February member meeting. \nDownload the event flyer here.
URL:https://wickliffeianda.com/event/valentines-day-brunch-2/
CATEGORIES:Member-Only Events
END:VEVENT
BEGIN:VEVENT
DTSTART;TZID=America/Detroit:20200204T190000
DTEND;TZID=America/Detroit:20200204T190000
DTSTAMP:20260423T154201
CREATED:20200123T194102Z
LAST-MODIFIED:20200123T194102Z
UID:2223-1580842800-1580842800@wickliffeianda.com
SUMMARY:Montly Member Meeting - Feb.
DESCRIPTION:
URL:https://wickliffeianda.com/event/montly-member-meeting-feb/
CATEGORIES:Monthly Meeting
END:VEVENT
BEGIN:VEVENT
DTSTART;TZID=America/Detroit:20200123T120000
DTEND;TZID=America/Detroit:20200123T170000
DTSTAMP:20260423T154201
CREATED:20200123T192659Z
LAST-MODIFIED:20200123T192659Z
UID:2207-1579780800-1579798800@wickliffeianda.com
SUMMARY:I&A Family Picnic
DESCRIPTION:Wickliffe I&A members and their families are welcome to the family picnic! It’s like a reunion\, only way bigger!
URL:https://wickliffeianda.com/event/ia-family-picnic/
CATEGORIES:Member-Only Events
END:VEVENT
BEGIN:VEVENT
DTSTART;TZID=America/Detroit:20191214T180000
DTEND;TZID=America/Detroit:20191214T230000
DTSTAMP:20260423T154201
CREATED:20191119T162700Z
LAST-MODIFIED:20191119T162730Z
UID:2177-1576346400-1576364400@wickliffeianda.com
SUMMARY:Wickliffe Italian American Club Member Christmas Party
DESCRIPTION:Open to Members & a guest.\nCost is $35.00 per person. \n\nDoors Open 6:00 pm\, Dinner at 7:00 pm\,\n\n\n\n\n \n\n\nIncludes: Appetizers\, Dinner (Chicken Piccata\, Angus Top Round\, Sausage and Peppers\, Cavatelli in Vodka Sauce\, Roasted Red Skin Potatoes\, Green Bean Almandine\, Salad\, Rolls)\, Open Bar\, Entertainment by Hit List Duo. \n\n\n\n\n\nTickets will be available at the December 3rd Club meeting. Deadline to Purchase tickets is Friday December 6\, 2019\n\n\n \n\n\nContact Vince Laurie 216-973-0277 via Text or call. You can also e-mail at vplaurie@yahoo.com or message me via Facebook messenger.
URL:https://wickliffeianda.com/event/wickliffe-italian-american-club-member-christmas-party/
CATEGORIES:Member-Only Events
END:VEVENT
BEGIN:VEVENT
DTSTART;TZID=America/Detroit:20191214T170000
DTEND;TZID=America/Detroit:20191214T220000
DTSTAMP:20260423T154201
CREATED:20190125T204534Z
LAST-MODIFIED:20190125T204534Z
UID:1489-1576342800-1576360800@wickliffeianda.com
SUMMARY:Holiday Social at Trevi
DESCRIPTION:
URL:https://wickliffeianda.com/event/holiday-social-at-trevi/
CATEGORIES:Member-Only Events
END:VEVENT
BEGIN:VEVENT
DTSTART;TZID=America/Detroit:20191203T190000
DTEND;TZID=America/Detroit:20191203T200000
DTSTAMP:20260423T154201
CREATED:20190102T194945Z
LAST-MODIFIED:20190102T194945Z
UID:1425-1575399600-1575403200@wickliffeianda.com
SUMMARY:December 2019 club meeting
DESCRIPTION:
URL:https://wickliffeianda.com/event/december-2019-club-meeting/
CATEGORIES:Member-Only Events,Monthly Meeting
END:VEVENT
BEGIN:VEVENT
DTSTART;TZID=America/Detroit:20191105T190000
DTEND;TZID=America/Detroit:20191105T200000
DTSTAMP:20260423T154201
CREATED:20190102T194911Z
LAST-MODIFIED:20190102T194911Z
UID:1423-1572980400-1572984000@wickliffeianda.com
SUMMARY:November 2019 club meeting
DESCRIPTION:
URL:https://wickliffeianda.com/event/november-2019-club-meeting/
CATEGORIES:Member-Only Events,Monthly Meeting
END:VEVENT
BEGIN:VEVENT
DTSTART;TZID=America/Detroit:20191012T080000
DTEND;TZID=America/Detroit:20191012T170000
DTSTAMP:20260423T154201
CREATED:20190125T204404Z
LAST-MODIFIED:20190125T204429Z
UID:1485-1570867200-1570899600@wickliffeianda.com
SUMMARY:Solon Invitational Bocce Tournament
DESCRIPTION:
URL:https://wickliffeianda.com/event/solon-invitational-bocce-tournament/
CATEGORIES:Member-Only Events
END:VEVENT
BEGIN:VEVENT
DTSTART;TZID=America/Detroit:20191005T180000
DTEND;TZID=America/Detroit:20191005T220000
DTSTAMP:20260423T154201
CREATED:20190125T204331Z
LAST-MODIFIED:20190125T204331Z
UID:1483-1570298400-1570312800@wickliffeianda.com
SUMMARY:Clambake
DESCRIPTION:More details coming soon.
URL:https://wickliffeianda.com/event/clambake/
END:VEVENT
BEGIN:VEVENT
DTSTART;TZID=America/Detroit:20191001T190000
DTEND;TZID=America/Detroit:20191001T200000
DTSTAMP:20260423T154201
CREATED:20190102T194832Z
LAST-MODIFIED:20190102T194832Z
UID:1421-1569956400-1569960000@wickliffeianda.com
SUMMARY:October 2019 club meeting
DESCRIPTION:
URL:https://wickliffeianda.com/event/october-2019-club-meeting/
CATEGORIES:Member-Only Events,Monthly Meeting
END:VEVENT
END:VCALENDAR