BEGIN:VCALENDAR
VERSION:2.0
PRODID:-//Wickliffe Italian-American Club - ECPv6.15.20//NONSGML v1.0//EN
CALSCALE:GREGORIAN
METHOD:PUBLISH
X-ORIGINAL-URL:https://wickliffeianda.com
X-WR-CALDESC:Events for Wickliffe Italian-American Club
REFRESH-INTERVAL;VALUE=DURATION:PT1H
X-Robots-Tag:noindex
X-PUBLISHED-TTL:PT1H
BEGIN:VTIMEZONE
TZID:America/Detroit
BEGIN:DAYLIGHT
TZOFFSETFROM:-0500
TZOFFSETTO:-0400
TZNAME:EDT
DTSTART:20180311T070000
END:DAYLIGHT
BEGIN:STANDARD
TZOFFSETFROM:-0400
TZOFFSETTO:-0500
TZNAME:EST
DTSTART:20181104T060000
END:STANDARD
BEGIN:DAYLIGHT
TZOFFSETFROM:-0500
TZOFFSETTO:-0400
TZNAME:EDT
DTSTART:20190310T070000
END:DAYLIGHT
BEGIN:STANDARD
TZOFFSETFROM:-0400
TZOFFSETTO:-0500
TZNAME:EST
DTSTART:20191103T060000
END:STANDARD
BEGIN:DAYLIGHT
TZOFFSETFROM:-0500
TZOFFSETTO:-0400
TZNAME:EDT
DTSTART:20200308T070000
END:DAYLIGHT
BEGIN:STANDARD
TZOFFSETFROM:-0400
TZOFFSETTO:-0500
TZNAME:EST
DTSTART:20201101T060000
END:STANDARD
BEGIN:DAYLIGHT
TZOFFSETFROM:-0500
TZOFFSETTO:-0400
TZNAME:EDT
DTSTART:20210314T070000
END:DAYLIGHT
BEGIN:STANDARD
TZOFFSETFROM:-0400
TZOFFSETTO:-0500
TZNAME:EST
DTSTART:20211107T060000
END:STANDARD
END:VTIMEZONE
BEGIN:VEVENT
DTSTART;TZID=America/Detroit:20200216T080000
DTEND;TZID=America/Detroit:20200216T113000
DTSTAMP:20260423T181852
CREATED:20200123T191809Z
LAST-MODIFIED:20200123T191851Z
UID:2192-1581840000-1581852600@wickliffeianda.com
SUMMARY:Valentine's Day Brunch
DESCRIPTION:$10 Member & Immediate Family $12 Non Members\n• Kids under 6 years of age – FREE\n• Omelettes\, Eggs\,Bacon\,Sausage\, Ham\, Pancakes\, Waffles & More \nTICKETS MUST BE PURCHASED BY FEBRUARY 12\, 2020 \nFor Tickets Contact Vince Laurie 216-973-0277 \, vplaurie@yahoo.com\nOr see Vince at the February member meeting. \nDownload the event flyer here.
URL:https://wickliffeianda.com/event/valentines-day-brunch-2/
CATEGORIES:Member-Only Events
END:VEVENT
BEGIN:VEVENT
DTSTART;TZID=America/Detroit:20200204T190000
DTEND;TZID=America/Detroit:20200204T190000
DTSTAMP:20260423T181852
CREATED:20200123T194102Z
LAST-MODIFIED:20200123T194102Z
UID:2223-1580842800-1580842800@wickliffeianda.com
SUMMARY:Montly Member Meeting - Feb.
DESCRIPTION:
URL:https://wickliffeianda.com/event/montly-member-meeting-feb/
CATEGORIES:Monthly Meeting
END:VEVENT
BEGIN:VEVENT
DTSTART;TZID=America/Detroit:20200123T120000
DTEND;TZID=America/Detroit:20200123T170000
DTSTAMP:20260423T181852
CREATED:20200123T192659Z
LAST-MODIFIED:20200123T192659Z
UID:2207-1579780800-1579798800@wickliffeianda.com
SUMMARY:I&A Family Picnic
DESCRIPTION:Wickliffe I&A members and their families are welcome to the family picnic! It’s like a reunion\, only way bigger!
URL:https://wickliffeianda.com/event/ia-family-picnic/
CATEGORIES:Member-Only Events
END:VEVENT
BEGIN:VEVENT
DTSTART;TZID=America/Detroit:20191214T180000
DTEND;TZID=America/Detroit:20191214T230000
DTSTAMP:20260423T181852
CREATED:20191119T162700Z
LAST-MODIFIED:20191119T162730Z
UID:2177-1576346400-1576364400@wickliffeianda.com
SUMMARY:Wickliffe Italian American Club Member Christmas Party
DESCRIPTION:Open to Members & a guest.\nCost is $35.00 per person. \n\nDoors Open 6:00 pm\, Dinner at 7:00 pm\,\n\n\n\n\n \n\n\nIncludes: Appetizers\, Dinner (Chicken Piccata\, Angus Top Round\, Sausage and Peppers\, Cavatelli in Vodka Sauce\, Roasted Red Skin Potatoes\, Green Bean Almandine\, Salad\, Rolls)\, Open Bar\, Entertainment by Hit List Duo. \n\n\n\n\n\nTickets will be available at the December 3rd Club meeting. Deadline to Purchase tickets is Friday December 6\, 2019\n\n\n \n\n\nContact Vince Laurie 216-973-0277 via Text or call. You can also e-mail at vplaurie@yahoo.com or message me via Facebook messenger.
URL:https://wickliffeianda.com/event/wickliffe-italian-american-club-member-christmas-party/
CATEGORIES:Member-Only Events
END:VEVENT
BEGIN:VEVENT
DTSTART;TZID=America/Detroit:20191214T170000
DTEND;TZID=America/Detroit:20191214T220000
DTSTAMP:20260423T181852
CREATED:20190125T204534Z
LAST-MODIFIED:20190125T204534Z
UID:1489-1576342800-1576360800@wickliffeianda.com
SUMMARY:Holiday Social at Trevi
DESCRIPTION:
URL:https://wickliffeianda.com/event/holiday-social-at-trevi/
CATEGORIES:Member-Only Events
END:VEVENT
BEGIN:VEVENT
DTSTART;TZID=America/Detroit:20191203T190000
DTEND;TZID=America/Detroit:20191203T200000
DTSTAMP:20260423T181852
CREATED:20190102T194945Z
LAST-MODIFIED:20190102T194945Z
UID:1425-1575399600-1575403200@wickliffeianda.com
SUMMARY:December 2019 club meeting
DESCRIPTION:
URL:https://wickliffeianda.com/event/december-2019-club-meeting/
CATEGORIES:Member-Only Events,Monthly Meeting
END:VEVENT
BEGIN:VEVENT
DTSTART;TZID=America/Detroit:20191105T190000
DTEND;TZID=America/Detroit:20191105T200000
DTSTAMP:20260423T181852
CREATED:20190102T194911Z
LAST-MODIFIED:20190102T194911Z
UID:1423-1572980400-1572984000@wickliffeianda.com
SUMMARY:November 2019 club meeting
DESCRIPTION:
URL:https://wickliffeianda.com/event/november-2019-club-meeting/
CATEGORIES:Member-Only Events,Monthly Meeting
END:VEVENT
BEGIN:VEVENT
DTSTART;TZID=America/Detroit:20191012T080000
DTEND;TZID=America/Detroit:20191012T170000
DTSTAMP:20260423T181852
CREATED:20190125T204404Z
LAST-MODIFIED:20190125T204429Z
UID:1485-1570867200-1570899600@wickliffeianda.com
SUMMARY:Solon Invitational Bocce Tournament
DESCRIPTION:
URL:https://wickliffeianda.com/event/solon-invitational-bocce-tournament/
CATEGORIES:Member-Only Events
END:VEVENT
BEGIN:VEVENT
DTSTART;TZID=America/Detroit:20191005T180000
DTEND;TZID=America/Detroit:20191005T220000
DTSTAMP:20260423T181852
CREATED:20190125T204331Z
LAST-MODIFIED:20190125T204331Z
UID:1483-1570298400-1570312800@wickliffeianda.com
SUMMARY:Clambake
DESCRIPTION:More details coming soon.
URL:https://wickliffeianda.com/event/clambake/
END:VEVENT
BEGIN:VEVENT
DTSTART;TZID=America/Detroit:20191001T190000
DTEND;TZID=America/Detroit:20191001T200000
DTSTAMP:20260423T181852
CREATED:20190102T194832Z
LAST-MODIFIED:20190102T194832Z
UID:1421-1569956400-1569960000@wickliffeianda.com
SUMMARY:October 2019 club meeting
DESCRIPTION:
URL:https://wickliffeianda.com/event/october-2019-club-meeting/
CATEGORIES:Member-Only Events,Monthly Meeting
END:VEVENT
BEGIN:VEVENT
DTSTART;TZID=America/Detroit:20190914T190000
DTEND;TZID=America/Detroit:20190914T230000
DTSTAMP:20260423T181852
CREATED:20190125T204248Z
LAST-MODIFIED:20190125T204248Z
UID:1481-1568487600-1568502000@wickliffeianda.com
SUMMARY:Glow in the Dark Bocce
DESCRIPTION:Night bocce. More details coming soon.
URL:https://wickliffeianda.com/event/glow-in-the-dark-bocce/
END:VEVENT
BEGIN:VEVENT
DTSTART;TZID=America/Detroit:20190914T180000
DTEND;TZID=America/Detroit:20190914T230000
DTSTAMP:20260423T181852
CREATED:20190827T120945Z
LAST-MODIFIED:20190827T121521Z
UID:2140-1568484000-1568502000@wickliffeianda.com
SUMMARY:Glow Bocce
DESCRIPTION:Glow Bocce is back! Join us for a night of bocce\, food\, music and more. \nDoors open at 6 p.m. (food served) with play beginning at 7 p.m. \nClick here for entry cost\, contact and details.
URL:https://wickliffeianda.com/event/glow-bocce-2/
CATEGORIES:Bocce Tournament,Public Event
END:VEVENT
BEGIN:VEVENT
DTSTART;TZID=America/Detroit:20190907T190000
DTEND;TZID=America/Detroit:20190907T230000
DTSTAMP:20260423T181852
CREATED:20190125T185925Z
LAST-MODIFIED:20190125T185925Z
UID:1479-1567882800-1567897200@wickliffeianda.com
SUMMARY:Reaching for Recovery Charity Event
DESCRIPTION:Many in our area have lost family members to drug addiction. We understand their struggles and how we struggled to help them. Rehabilitation facilities and group homes offer hope and support but are few and vastly underfunded. Our mission is to provide hope for recovery through financial assistance to existing\, and /or new group homes and rehabilitation programs for men and women who struggle daily with drug and /or alcohol addiction. All proceeds will be used to provide care\, support\, treatment and rehabilitation. \nVisit our Facebook page for more information on the organization.
URL:https://wickliffeianda.com/event/reaching-for-recovery-charity-event/
CATEGORIES:Public Event
END:VEVENT
BEGIN:VEVENT
DTSTART;TZID=America/Detroit:20190903T190000
DTEND;TZID=America/Detroit:20190903T200000
DTSTAMP:20260423T181852
CREATED:20190102T194756Z
LAST-MODIFIED:20190102T194756Z
UID:1419-1567537200-1567540800@wickliffeianda.com
SUMMARY:September 2019 club meeting
DESCRIPTION:
URL:https://wickliffeianda.com/event/september-2019-club-meeting/
CATEGORIES:Member-Only Events,Monthly Meeting
END:VEVENT
BEGIN:VEVENT
DTSTART;TZID=America/Detroit:20190823T170000
DTEND;TZID=America/Detroit:20190825T170000
DTSTAMP:20260423T181852
CREATED:20190125T185642Z
LAST-MODIFIED:20190125T185642Z
UID:1477-1566579600-1566752400@wickliffeianda.com
SUMMARY:Pat O'Brien Cleveland Challenge Cup of Bocce
DESCRIPTION:Food\, music\, entertainment\, and most importantly… Bocce! \nView more details from past tournaments here.
URL:https://wickliffeianda.com/event/pat-obrien-cleveland-challenge-cup-of-bocce/
CATEGORIES:Public Event
END:VEVENT
BEGIN:VEVENT
DTSTART;TZID=America/Detroit:20190806T190000
DTEND;TZID=America/Detroit:20190806T200000
DTSTAMP:20260423T181852
CREATED:20190102T194722Z
LAST-MODIFIED:20190102T194722Z
UID:1417-1565118000-1565121600@wickliffeianda.com
SUMMARY:August 2019 club meeting
DESCRIPTION:
URL:https://wickliffeianda.com/event/august-2019-club-meeting/
CATEGORIES:Member-Only Events,Monthly Meeting
END:VEVENT
BEGIN:VEVENT
DTSTART;TZID=America/Detroit:20190804T080000
DTEND;TZID=America/Detroit:20190804T170000
DTSTAMP:20260423T181852
CREATED:20190125T185448Z
LAST-MODIFIED:20190125T185448Z
UID:1475-1564905600-1564938000@wickliffeianda.com
SUMMARY:Family Picnic
DESCRIPTION:Wickliffe I&A members and their families are welcome to the family picnic! It’s like a reunion\, only way bigger!
URL:https://wickliffeianda.com/event/family-picnic/
CATEGORIES:Member-Only Events
END:VEVENT
BEGIN:VEVENT
DTSTART;TZID=America/Detroit:20190719T170000
DTEND;TZID=America/Detroit:20190719T230000
DTSTAMP:20260423T181852
CREATED:20190125T185352Z
LAST-MODIFIED:20190125T185352Z
UID:1473-1563555600-1563577200@wickliffeianda.com
SUMMARY:Beats n' Eats
DESCRIPTION:Enjoy a night of live music and food from local food trucks at the Wickliffe I&A grounds. All proceeds benefit the Wickliffe I&A Scholarship Fund. \nMore details coming soon!
URL:https://wickliffeianda.com/event/beats-n-eats/
CATEGORIES:Public Event
END:VEVENT
BEGIN:VEVENT
DTSTART;TZID=America/Detroit:20190702T190000
DTEND;TZID=America/Detroit:20190702T200000
DTSTAMP:20260423T181852
CREATED:20190102T194654Z
LAST-MODIFIED:20190102T194654Z
UID:1415-1562094000-1562097600@wickliffeianda.com
SUMMARY:July 2019 club meeting
DESCRIPTION:
URL:https://wickliffeianda.com/event/july-2019-club-meeting/
CATEGORIES:Member-Only Events,Monthly Meeting
END:VEVENT
BEGIN:VEVENT
DTSTART;TZID=America/Detroit:20190604T190000
DTEND;TZID=America/Detroit:20190604T200000
DTSTAMP:20260423T181852
CREATED:20190102T194603Z
LAST-MODIFIED:20190102T194603Z
UID:1413-1559674800-1559678400@wickliffeianda.com
SUMMARY:June 2019 club meeting
DESCRIPTION:
URL:https://wickliffeianda.com/event/june-2019-club-meeting/
CATEGORIES:Member-Only Events,Monthly Meeting
END:VEVENT
BEGIN:VEVENT
DTSTART;TZID=America/Detroit:20190601T080000
DTEND;TZID=America/Detroit:20190601T170000
DTSTAMP:20260423T181852
CREATED:20190125T185232Z
LAST-MODIFIED:20190125T185232Z
UID:1471-1559376000-1559408400@wickliffeianda.com
SUMMARY:One-Man Bocce Tournament
DESCRIPTION:Details forthcoming.
URL:https://wickliffeianda.com/event/one-man-bocce-tournament/
END:VEVENT
BEGIN:VEVENT
DTSTART;TZID=America/Detroit:20190507T190000
DTEND;TZID=America/Detroit:20190507T200000
DTSTAMP:20260423T181852
CREATED:20190102T194533Z
LAST-MODIFIED:20190102T194533Z
UID:1411-1557255600-1557259200@wickliffeianda.com
SUMMARY:May 2019 club meeting
DESCRIPTION:
URL:https://wickliffeianda.com/event/may-2019-club-meeting/
CATEGORIES:Member-Only Events,Monthly Meeting
END:VEVENT
BEGIN:VEVENT
DTSTART;TZID=America/Detroit:20190504T080000
DTEND;TZID=America/Detroit:20190504T110000
DTSTAMP:20260423T181852
CREATED:20190125T185200Z
LAST-MODIFIED:20190125T185200Z
UID:1469-1556956800-1556967600@wickliffeianda.com
SUMMARY:Special Olympics
DESCRIPTION:Held at the Wickliffe I&A grounds.
URL:https://wickliffeianda.com/event/special-olympics-2/
CATEGORIES:Public Event
END:VEVENT
BEGIN:VEVENT
DTSTART;TZID=America/Detroit:20190502T190000
DTEND;TZID=America/Detroit:20190502T210000
DTSTAMP:20260423T181852
CREATED:20190125T185119Z
LAST-MODIFIED:20190125T185119Z
UID:1467-1556823600-1556830800@wickliffeianda.com
SUMMARY:First week of Thursday Night Bocce
DESCRIPTION:
URL:https://wickliffeianda.com/event/first-week-of-thursday-night-bocce/
CATEGORIES:Member-Only Events
END:VEVENT
BEGIN:VEVENT
DTSTART;TZID=America/Detroit:20190414T080000
DTEND;TZID=America/Detroit:20190414T110000
DTSTAMP:20260423T181852
CREATED:20190125T185033Z
LAST-MODIFIED:20190125T185033Z
UID:1465-1555228800-1555239600@wickliffeianda.com
SUMMARY:Spring Cleanup
DESCRIPTION:All members are needed for the spring cleanup at the Wickliffe I&A grounds! The cleanup is mandatory for new members\, but the more people we get\, the quicker the day goes. Bring rakes\, tarps\, gloves\, etc.
URL:https://wickliffeianda.com/event/spring-cleanup/
CATEGORIES:Member-Only Events
END:VEVENT
BEGIN:VEVENT
DTSTART;VALUE=DATE:20190411
DTEND;VALUE=DATE:20190412
DTSTAMP:20260423T181852
CREATED:20190125T184853Z
LAST-MODIFIED:20190125T184853Z
UID:1463-1554940800-1555027199@wickliffeianda.com
SUMMARY:Ladies Auxiliary Card Party
DESCRIPTION:
URL:https://wickliffeianda.com/event/ladies-auxiliary-card-party/
END:VEVENT
BEGIN:VEVENT
DTSTART;TZID=America/Detroit:20190402T190000
DTEND;TZID=America/Detroit:20190402T200000
DTSTAMP:20260423T181852
CREATED:20190102T194457Z
LAST-MODIFIED:20190102T194457Z
UID:1409-1554231600-1554235200@wickliffeianda.com
SUMMARY:April 2019 club meeting
DESCRIPTION:
URL:https://wickliffeianda.com/event/april-2019-club-meeting/
CATEGORIES:Monthly Meeting
END:VEVENT
BEGIN:VEVENT
DTSTART;TZID=America/Detroit:20190330T190000
DTEND;TZID=America/Detroit:20190330T230000
DTSTAMP:20260423T181852
CREATED:20190125T184818Z
LAST-MODIFIED:20190222T205425Z
UID:1461-1553972400-1553986800@wickliffeianda.com
SUMMARY:Annual Wine Tasting 2019
DESCRIPTION:Held at Trevi Catering (large hall). \nFind more information here. \nDownload the entry form if you’d like to submit your wine or sausage.
URL:https://wickliffeianda.com/event/annual-wine-tasting/
CATEGORIES:Public Event
END:VEVENT
BEGIN:VEVENT
DTSTART;TZID=America/Detroit:20190305T190000
DTEND;TZID=America/Detroit:20190305T200000
DTSTAMP:20260423T181852
CREATED:20190102T194421Z
LAST-MODIFIED:20190102T194421Z
UID:1407-1551812400-1551816000@wickliffeianda.com
SUMMARY:March 2019 club meeting
DESCRIPTION:
URL:https://wickliffeianda.com/event/march-2019-club-meeting/
CATEGORIES:Monthly Meeting
END:VEVENT
BEGIN:VEVENT
DTSTART;TZID=America/Detroit:20190217T080000
DTEND;TZID=America/Detroit:20190217T113000
DTSTAMP:20260423T181852
CREATED:20190125T184605Z
LAST-MODIFIED:20190125T184605Z
UID:1459-1550390400-1550403000@wickliffeianda.com
SUMMARY:Valentine's Day Brunch
DESCRIPTION:You’re invited to the Wickliffe I&A’s famous Valentine’s Day Brunch! This event is open to members and the public. \nDoors open at 8 a.m. until 11 a.m. \n$10 for members & immediate family\n$12 for non members \nJon us for delicious\, fresh omelettes\, eggs\, bacon\, sausage\, ham\, pancakes\, waffles and more. \nTickets must be purchased by Feb. 10\, 2019\nFor tickets\, contact Vince Laurie at 216.973.0277\, or vplaurie@yahoo.com.
URL:https://wickliffeianda.com/event/valentines-day-brunch/
CATEGORIES:Public Event
END:VEVENT
END:VCALENDAR